BEGIN:VCALENDAR
VERSION:2.0
PRODID:-//Tukios.com/
BEGIN:VEVENT
UID:1e73441e-d700-4ac4-953e-6f22cb50d4ab@www.thompsonfh.net
DTSTAMP:20260420T003719Z
DTSTART:20260422T160000Z
DTEND:20260422T170000Z
SUMMARY:Visitation
DESCRIPTION:
URL:https://www.thompsonfh.net/obituaries/john-fort-sr
LOCATION: 1012 Whitman St SE  Orangeburg SC 29115
GEO:33.4909573;-80.8482155
END:VEVENT
END:VCALENDAR