BEGIN:VCALENDAR
VERSION:2.0
PRODID:-//Tukios.com/
BEGIN:VEVENT
UID:4bda7415-f8ae-4958-ba45-994dfc64346a@www.thompsonfh.net
DTSTAMP:20260420T003412Z
DTSTART:20260422T170000Z
DTEND:20260422T180000Z
SUMMARY:Burial
DESCRIPTION:
URL:https://www.thompsonfh.net/obituaries/john-fort-sr
LOCATION: 1012 Whitman St SE  Orangeburg SC 29115
GEO:33.4909573;-80.8482155
END:VEVENT
END:VCALENDAR